BEGIN:VCALENDAR
VERSION:2.0
PRODID:-//Eventin//Event Calendar//EN
CALSCALE:GREGORIAN
METHOD:PUBLISH
BEGIN:VEVENT
UID:a23d5aa4c395cd5e35aec00c2d909051@lukas-kuhn.com
SUMMARY:Fundamentals Workshop Erfurt
DESCRIPTION:Grundlagen Workshop. Wie auf der Seite Beschrieben
LOCATION:ka:te Café\, Veilchenstraße 32\, Erfurt
DTSTAMP:20260421T230051Z
DTSTART:20260619T220000Z
DTEND:20260620T180000Z
END:VEVENT
END:VCALENDAR
